BEGIN:VCALENDAR
VERSION:2.0
PRODID:-//ZContent.net//ZapCalLib 1.0//EN
CALSCALE:GREGORIAN
METHOD:PUBLISH
BEGIN:VEVENT
SUMMARY:Wstęp i przywitanie
DTSTART:20210915T163000
DTEND:20210915T183500
UID:Wstęp i przywitanie18171_1777127584
DTSTAMP:20260425T143304
Description:
END:VEVENT
END:VCALENDAR
