BEGIN:VCALENDAR
VERSION:2.0
PRODID:-//ZContent.net//ZapCalLib 1.0//EN
CALSCALE:GREGORIAN
METHOD:PUBLISH
BEGIN:VEVENT
SUMMARY:Rozpoznawanie i ocena nasilenia AZS
DTSTART:20210915T163500
DTEND:20210915T190000
UID:Rozpoznawanie i ocena nasilenia AZS18172_1777127427
DTSTAMP:20260425T143027
Description:
END:VEVENT
END:VCALENDAR
