BEGIN:VCALENDAR
VERSION:2.0
PRODID:-//ZContent.net//ZapCalLib 1.0//EN
CALSCALE:GREGORIAN
METHOD:PUBLISH
BEGIN:VEVENT
SUMMARY:Jak stosować pimekrolimus w terapii AZS?
DTSTART:20210915T170000
DTEND:20210915T191500
UID:Jak stosować pimekrolimus w terapii AZS?18173_1776796252
DTSTAMP:20260421T183052
Description:
END:VEVENT
END:VCALENDAR
