BEGIN:VCALENDAR
VERSION:2.0
PRODID:-//ZContent.net//ZapCalLib 1.0//EN
CALSCALE:GREGORIAN
METHOD:PUBLISH
BEGIN:VEVENT
SUMMARY:Dyskusja
DTSTART:20210915T171500
DTEND:20210915T192500
UID:Dyskusja18174_1776839991
DTSTAMP:20260422T063951
Description:
END:VEVENT
END:VCALENDAR
