BEGIN:VCALENDAR
VERSION:2.0
PRODID:-//ZContent.net//ZapCalLib 1.0//EN
CALSCALE:GREGORIAN
METHOD:PUBLISH
BEGIN:VEVENT
SUMMARY:Diagnostyka w AZS
DTSTART:20210915T173000
DTEND:20210915T195000
UID:Diagnostyka w AZS18176_1776838827
DTSTAMP:20260422T062027
Description:
END:VEVENT
END:VCALENDAR
