BEGIN:VCALENDAR
VERSION:2.0
PRODID:-//ZContent.net//ZapCalLib 1.0//EN
CALSCALE:GREGORIAN
METHOD:PUBLISH
BEGIN:VEVENT
SUMMARY:Aktualne interdyscyplinarne rekomendacje terapeutyczne
DTSTART:20210915T175000
DTEND:20210915T201000
UID:Aktualne interdyscyplinarne rekomendacje terapeutyczne18177_1776847788
DTSTAMP:20260422T084948
Description:
END:VEVENT
END:VCALENDAR
