BEGIN:VCALENDAR
VERSION:2.0
PRODID:-//ZContent.net//ZapCalLib 1.0//EN
CALSCALE:GREGORIAN
METHOD:PUBLISH
BEGIN:VEVENT
SUMMARY:Terapia proaktywna w codziennej praktyce<br />\nWykład sponsorowan
 y firmy Bausch Health<br />\n 
DTSTART:20210915T181000
DTEND:20210915T203000
UID:Terapia proaktywna w codziennej praktyce<br />\nWykład sponsorowany fi
 rmy Bausch Health<br />\n 18178_1776852290
DTSTAMP:20260422T100450
Description:
END:VEVENT
END:VCALENDAR
