BEGIN:VCALENDAR
VERSION:2.0
PRODID:-//ZContent.net//ZapCalLib 1.0//EN
CALSCALE:GREGORIAN
METHOD:PUBLISH
BEGIN:VEVENT
SUMMARY:Dyskusja
DTSTART:20210915T183000
DTEND:20210915T204000
UID:Dyskusja18179_1776706567
DTSTAMP:20260420T173607
Description:
END:VEVENT
END:VCALENDAR
